BEGIN:VCALENDAR
VERSION:2.0
PRODID:icalendar-ruby
CALSCALE:GREGORIAN
METHOD:PUBLISH
BEGIN:VEVENT
DTSTAMP:20260424T122950Z
UID:328-1554374@lcresurrection.org
DTSTART:20261127T223000Z
DTEND:20261128T023000Z
CLASS:PUBLIC
CREATED:20260415T104236
DESCRIPTION:Contact: Barb Schmidt\n 
LAST-MODIFIED:20260415T104236
LOCATION:1950 Nagel Road\, Cincinnati\, OH\, 45255
SUMMARY:SWAG Cards & Potluck
URL;VALUE=URI:https://www.lcresurrection.org/events/swag-cards-potluck/2026
 -11-27
END:VEVENT
END:VCALENDAR
