BEGIN:VCALENDAR
VERSION:2.0
PRODID:icalendar-ruby
CALSCALE:GREGORIAN
METHOD:PUBLISH
BEGIN:VEVENT
DTSTAMP:20260425T130145Z
UID:11-1627476@lcresurrection.org
DTSTART:20261024T213000Z
DTEND:20261024T223000Z
CLASS:PUBLIC
CREATED:20260425T073402
DESCRIPTION:This service often features solo musicians or small ensembles. 
 \nDuring the fall (September &amp\; October)\, as weather permits\, we mee
 t outside in our Memorial Garden to experience God's presence in creation.
LAST-MODIFIED:20260425T073402
LOCATION:
SUMMARY:Saturday Worship
URL;VALUE=URI:https://www.lcresurrection.org/events/saturday-worship/2026-1
 0-24
END:VEVENT
END:VCALENDAR
